BEGIN:VCALENDAR
VERSION:2.0
PRODID:-//Harden Street Project - ECPv6.15.17.1//NONSGML v1.0//EN
CALSCALE:GREGORIAN
METHOD:PUBLISH
X-WR-CALNAME:Harden Street Project
X-ORIGINAL-URL:https://hardenstreetproject.lamanadonadelle.com
X-WR-CALDESC:Events for Harden Street Project
REFRESH-INTERVAL;VALUE=DURATION:PT1H
X-Robots-Tag:noindex
X-PUBLISHED-TTL:PT1H
BEGIN:VTIMEZONE
TZID:America/New_York
BEGIN:DAYLIGHT
TZOFFSETFROM:-0500
TZOFFSETTO:-0400
TZNAME:EDT
DTSTART:20220313T070000
END:DAYLIGHT
BEGIN:STANDARD
TZOFFSETFROM:-0400
TZOFFSETTO:-0500
TZNAME:EST
DTSTART:20221106T060000
END:STANDARD
BEGIN:DAYLIGHT
TZOFFSETFROM:-0500
TZOFFSETTO:-0400
TZNAME:EDT
DTSTART:20230312T070000
END:DAYLIGHT
BEGIN:STANDARD
TZOFFSETFROM:-0400
TZOFFSETTO:-0500
TZNAME:EST
DTSTART:20231105T060000
END:STANDARD
BEGIN:DAYLIGHT
TZOFFSETFROM:-0500
TZOFFSETTO:-0400
TZNAME:EDT
DTSTART:20240310T070000
END:DAYLIGHT
BEGIN:STANDARD
TZOFFSETFROM:-0400
TZOFFSETTO:-0500
TZNAME:EST
DTSTART:20241103T060000
END:STANDARD
BEGIN:DAYLIGHT
TZOFFSETFROM:-0500
TZOFFSETTO:-0400
TZNAME:EDT
DTSTART:20250309T070000
END:DAYLIGHT
BEGIN:STANDARD
TZOFFSETFROM:-0400
TZOFFSETTO:-0500
TZNAME:EST
DTSTART:20251102T060000
END:STANDARD
BEGIN:DAYLIGHT
TZOFFSETFROM:-0500
TZOFFSETTO:-0400
TZNAME:EDT
DTSTART:20260308T070000
END:DAYLIGHT
BEGIN:STANDARD
TZOFFSETFROM:-0400
TZOFFSETTO:-0500
TZNAME:EST
DTSTART:20261101T060000
END:STANDARD
END:VTIMEZONE
BEGIN:VEVENT
DTSTART;TZID=America/New_York:20251224T120000
DTEND;TZID=America/New_York:20251224T160000
DTSTAMP:20260421T054627
CREATED:20251222T151859Z
LAST-MODIFIED:20251222T161821Z
UID:447-1766577600-1766592000@hardenstreetproject.lamanadonadelle.com
SUMMARY:Christmas Eve Brunch
DESCRIPTION:Join us for a festive Brunch!\n\n\n\nMenu \n\n\n\n\nVegan Sausages\n\n\n\nLentil Fritters\n\n\n\nSmoked Cheddar and Spinach Frittata\n\n\n\nFrench Toast Casserole\n\n\n\nCreamy Grits\n\n\n\nBiscuits w/ Jam\n\n\n\nFresh Fruit Parfaits w/ Handmade Cherry Almond Granola\n\n\n\n\nBeverages \n\n\n\n\nCoffee and Coffee Cocktails\n\n\n\nOrange Juice\n\n\n\nSparkling Water
URL:https://hardenstreetproject.lamanadonadelle.com/event/christmas-eve-brunch/
LOCATION:Harden Street Project\, 373 Harden St\, Burlington\, NC\, 27215\, United States
CATEGORIES:Family
ATTACH;FMTTYPE=image/jpeg:https://hardenstreetproject.lamanadonadelle.com/wp-content/uploads/2025/12/Brunch-Menu-Foxes-Love-Lemons.jpg
ORGANIZER;CN="LaManaML":MAILTO:lamanaml@gmail.com
END:VEVENT
BEGIN:VEVENT
DTSTART;VALUE=DATE:20250525
DTEND;VALUE=DATE:20250529
DTSTAMP:20260421T054627
CREATED:20250408T142817Z
LAST-MODIFIED:20250408T142817Z
UID:343-1748131200-1748476799@hardenstreetproject.lamanadonadelle.com
SUMMARY:Darwin's Birthday Weekend
DESCRIPTION:
URL:https://hardenstreetproject.lamanadonadelle.com/event/darwins-birthday-weekend/
LOCATION:NC
END:VEVENT
BEGIN:VEVENT
DTSTART;TZID=America/New_York:20250518T080000
DTEND;TZID=America/New_York:20250518T170000
DTSTAMP:20260421T054627
CREATED:20250408T142914Z
LAST-MODIFIED:20250408T142914Z
UID:345-1747555200-1747587600@hardenstreetproject.lamanadonadelle.com
SUMMARY:Khyan's Birthday Party
DESCRIPTION:
URL:https://hardenstreetproject.lamanadonadelle.com/event/khyans-birthday-party/
LOCATION:NC
END:VEVENT
BEGIN:VEVENT
DTSTART;TZID=America/New_York:20250511T080000
DTEND;TZID=America/New_York:20250511T170000
DTSTAMP:20260421T054627
CREATED:20250408T143052Z
LAST-MODIFIED:20250408T143052Z
UID:347-1746950400-1746982800@hardenstreetproject.lamanadonadelle.com
SUMMARY:Mothers Day Brunch
DESCRIPTION:
URL:https://hardenstreetproject.lamanadonadelle.com/event/mothers-day-brunch/
LOCATION:NC
END:VEVENT
BEGIN:VEVENT
DTSTART;TZID=America/New_York:20250421T080000
DTEND;TZID=America/New_York:20250421T170000
DTSTAMP:20260421T054627
CREATED:20250422T125631Z
LAST-MODIFIED:20250422T125631Z
UID:360-1745222400-1745254800@hardenstreetproject.lamanadonadelle.com
SUMMARY:Gail's Ghana Event
DESCRIPTION:
URL:https://hardenstreetproject.lamanadonadelle.com/event/gails-ghana-event/
LOCATION:NC
END:VEVENT
BEGIN:VEVENT
DTSTART;TZID=America/New_York:20240707T140000
DTEND;TZID=America/New_York:20240707T180000
DTSTAMP:20260421T054628
CREATED:20240507T040416Z
LAST-MODIFIED:20240507T040416Z
UID:228-1720360800-1720375200@hardenstreetproject.lamanadonadelle.com
SUMMARY:Brenda's 70th Birthday Cookout
DESCRIPTION:Join us for an afternoon of fun and fellowship as we celebrate Brenda’s 70th birthday with a cookout! \nMenu\nFried Fish\nBeef Hotdogs\nPotato salad\nCole Slaw \n————————————– \nGames\nCorn Hole\nConnect 4\nVolley Ball\nSpades
URL:https://hardenstreetproject.lamanadonadelle.com/event/brendas-70th-birthday-cookout/
LOCATION:Harden Street Project\, 373 Harden St\, Burlington\, NC\, 27215\, United States
ORGANIZER;CN="LaManaML":MAILTO:lamanaml@gmail.com
END:VEVENT
BEGIN:VEVENT
DTSTART;TZID=America/New_York:20240303T160000
DTEND;TZID=America/New_York:20240303T190000
DTSTAMP:20260421T054628
CREATED:20240123T135848Z
LAST-MODIFIED:20240123T135848Z
UID:192-1709481600-1709492400@hardenstreetproject.lamanadonadelle.com
SUMMARY:Family Game Night
DESCRIPTION:Hey darlings\, \nWe have tons of games so let’s have a play date!\nEveryone bring something to snack on.\nWe will have some wine and sweets. \nSee you then\,\nKhyan\, Auset and LaMana
URL:https://hardenstreetproject.lamanadonadelle.com/event/family-game-night/
LOCATION:Harden Street Project\, 373 Harden St\, Burlington\, NC\, 27215\, United States
CATEGORIES:Family
ATTACH;FMTTYPE=image/jpeg:https://hardenstreetproject.lamanadonadelle.com/wp-content/uploads/2024/01/board-game-vbs-game-pieces-photo-backdrop-banner-3-pc-14239461.jpeg
ORGANIZER;CN="LaManaML":MAILTO:lamanaml@gmail.com
END:VEVENT
BEGIN:VEVENT
DTSTART;TZID=America/New_York:20240214T150000
DTEND;TZID=America/New_York:20240214T220000
DTSTAMP:20260421T054628
CREATED:20240131T044831Z
LAST-MODIFIED:20240131T044831Z
UID:252-1707922800-1707948000@hardenstreetproject.lamanadonadelle.com
SUMMARY:Valentine's Dinner Cooking Class
DESCRIPTION:1st Course \n2nd Course \n3rd Course\nPoached Pear Crumble \nCocktail\nCranberry Thyme Vodka and Tonic
URL:https://hardenstreetproject.lamanadonadelle.com/event/valentines-dinner-cooking-class/
LOCATION:Harden Street Project\, 373 Harden St\, Burlington\, NC\, 27215\, United States
ORGANIZER;CN="LaManaML":MAILTO:lamanaml@gmail.com
END:VEVENT
BEGIN:VEVENT
DTSTART;TZID=America/New_York:20231231T190000
DTEND;TZID=America/New_York:20231231T233000
DTSTAMP:20260421T054628
CREATED:20231211T044940Z
LAST-MODIFIED:20231211T044940Z
UID:226-1704049200-1704065400@hardenstreetproject.lamanadonadelle.com
SUMMARY:Murder Mystery New Year’s Eve Party
DESCRIPTION:
URL:https://hardenstreetproject.lamanadonadelle.com/event/murder-mystery-new-years-eve-party/
LOCATION:NC
END:VEVENT
END:VCALENDAR