BEGIN:VCALENDAR
VERSION:2.0
PRODID:-//Harden Street Project - ECPv6.15.17.1//NONSGML v1.0//EN
CALSCALE:GREGORIAN
METHOD:PUBLISH
X-ORIGINAL-URL:https://hardenstreetproject.lamanadonadelle.com
X-WR-CALDESC:Events for Harden Street Project
REFRESH-INTERVAL;VALUE=DURATION:PT1H
X-Robots-Tag:noindex
X-PUBLISHED-TTL:PT1H
BEGIN:VTIMEZONE
TZID:America/New_York
BEGIN:DAYLIGHT
TZOFFSETFROM:-0500
TZOFFSETTO:-0400
TZNAME:EDT
DTSTART:20230312T070000
END:DAYLIGHT
BEGIN:STANDARD
TZOFFSETFROM:-0400
TZOFFSETTO:-0500
TZNAME:EST
DTSTART:20231105T060000
END:STANDARD
BEGIN:DAYLIGHT
TZOFFSETFROM:-0500
TZOFFSETTO:-0400
TZNAME:EDT
DTSTART:20240310T070000
END:DAYLIGHT
BEGIN:STANDARD
TZOFFSETFROM:-0400
TZOFFSETTO:-0500
TZNAME:EST
DTSTART:20241103T060000
END:STANDARD
BEGIN:DAYLIGHT
TZOFFSETFROM:-0500
TZOFFSETTO:-0400
TZNAME:EDT
DTSTART:20250309T070000
END:DAYLIGHT
BEGIN:STANDARD
TZOFFSETFROM:-0400
TZOFFSETTO:-0500
TZNAME:EST
DTSTART:20251102T060000
END:STANDARD
BEGIN:DAYLIGHT
TZOFFSETFROM:-0500
TZOFFSETTO:-0400
TZNAME:EDT
DTSTART:20260308T070000
END:DAYLIGHT
BEGIN:STANDARD
TZOFFSETFROM:-0400
TZOFFSETTO:-0500
TZNAME:EST
DTSTART:20261101T060000
END:STANDARD
END:VTIMEZONE
BEGIN:VEVENT
DTSTART;TZID=America/New_York:20251224T120000
DTEND;TZID=America/New_York:20251224T160000
DTSTAMP:20260421T070520
CREATED:20251222T151859Z
LAST-MODIFIED:20251222T161821Z
UID:447-1766577600-1766592000@hardenstreetproject.lamanadonadelle.com
SUMMARY:Christmas Eve Brunch
DESCRIPTION:Join us for a festive Brunch!\n\n\n\nMenu \n\n\n\n\nVegan Sausages\n\n\n\nLentil Fritters\n\n\n\nSmoked Cheddar and Spinach Frittata\n\n\n\nFrench Toast Casserole\n\n\n\nCreamy Grits\n\n\n\nBiscuits w/ Jam\n\n\n\nFresh Fruit Parfaits w/ Handmade Cherry Almond Granola\n\n\n\n\nBeverages \n\n\n\n\nCoffee and Coffee Cocktails\n\n\n\nOrange Juice\n\n\n\nSparkling Water
URL:https://hardenstreetproject.lamanadonadelle.com/event/christmas-eve-brunch/
LOCATION:Harden Street Project\, 373 Harden St\, Burlington\, NC\, 27215\, United States
CATEGORIES:Family
ATTACH;FMTTYPE=image/jpeg:https://hardenstreetproject.lamanadonadelle.com/wp-content/uploads/2025/12/Brunch-Menu-Foxes-Love-Lemons.jpg
ORGANIZER;CN="LaManaML":MAILTO:lamanaml@gmail.com
END:VEVENT
BEGIN:VEVENT
DTSTART;TZID=America/New_York:20240303T160000
DTEND;TZID=America/New_York:20240303T190000
DTSTAMP:20260421T070520
CREATED:20240123T135848Z
LAST-MODIFIED:20240123T135848Z
UID:192-1709481600-1709492400@hardenstreetproject.lamanadonadelle.com
SUMMARY:Family Game Night
DESCRIPTION:Hey darlings\, \nWe have tons of games so let’s have a play date!\nEveryone bring something to snack on.\nWe will have some wine and sweets. \nSee you then\,\nKhyan\, Auset and LaMana
URL:https://hardenstreetproject.lamanadonadelle.com/event/family-game-night/
LOCATION:Harden Street Project\, 373 Harden St\, Burlington\, NC\, 27215\, United States
CATEGORIES:Family
ATTACH;FMTTYPE=image/jpeg:https://hardenstreetproject.lamanadonadelle.com/wp-content/uploads/2024/01/board-game-vbs-game-pieces-photo-backdrop-banner-3-pc-14239461.jpeg
ORGANIZER;CN="LaManaML":MAILTO:lamanaml@gmail.com
END:VEVENT
END:VCALENDAR